BEGIN:VCALENDAR
VERSION:2.0
PRODID:-//wp-events-plugin.com//6.5.2//EN
TZID:Europe/Berlin
X-WR-TIMEZONE:Europe/Berlin
BEGIN:VEVENT
UID:11@dasmaximum.com
DTSTART;TZID=Europe/Berlin:20230127T160000
DTEND;TZID=Europe/Berlin:20230127T170000
DTSTAMP:20230111T122940Z
URL:https://www.dasmaximum.com/events/kunstbegegnung-fuer-kinder-zu-dan-fl
 avin-2/
SUMMARY:Art Encounter for Children on Dan Flavin
DESCRIPTION:We start the year 2023\, as we ended the year 2022
 n: With an art encounter for children on Dan Flavin. But this time with
  a special feature: on January 27, we will open the Flavin Halle for the first time
  time\, when it's already dark outside!
ATTACH;FMTTYPE=image/jpeg:https://www.dasmaximum.com/wp-content/uploads/20
 22/12/2023-01-27_KunstBegegnung-Flavin_Veranstaltungsbanner.jpg
CATEGORIES:Children and family,Art education
LOCATION:DASMAXIMUM KunstGegenwart\, Fridtjof-Nansen-Straße 16\, Traunreut
 \, Bavaria\, 83301\, Bavaria\, Germany
X-APPLE-STRUCTURED-LOCATION;VALUE=URI;X-ADDRESS=Fridtjof-Nansen-Straße 16\
 , Traunreut\, Bayern\, 83301\, Bayern\, Germany;X-APPLE-RADIUS=100;X-T
 ITLE=DASMAXIMUM ArtPresent:geo:0,0
END:VEVENT
BEGIN:VTIMEZONE
TZID:Europe/Berlin
X-LIC-LOCATION:Europe/Berlin
BEGIN:STANDARD
DTSTART:20221030T020000
TZOFFSETFROM:+0200
TZOFFSETTO:+0100
TZNAME:CET
END:STANDARD
END:VTIMEZONE
END:VCALENDAR