BEGIN:VCALENDAR
VERSION:2.0
PRODID:-//wp-events-plugin.com//6.5.2//EN
TZID:Europe/Berlin
X-WR-TIMEZONE:Europe/Berlin
BEGIN:VEVENT
UID:34@dasmaximum.com
DTSTART;TZID=Europe/Berlin:20231118T100000
DTEND;TZID=Europe/Berlin:20231118T120000
DTSTAMP:20231113T154154Z
URL:https://www.dasmaximum.com/events/7503/
SUMMARY:VHS-Führung: Maximalismus im Minimalismus? - Minimal Art in den US
 A und Deutschland
DESCRIPTION:\n\n\nDie Kunstrichtung der "Minimal-Art" entstand in den 1960e
 r-Jahren in den USA als Gegenbewegung zur vorherrschenden abstrakten Maler
 ei und der scheinbar trivialen Bilderwelt der Pop-Art. Die Künstler nutzt
 en industrielle Materialien und Fertigungsprozesse\, um einfache geometris
 che Formen scheinbar ohne künstlerische Handschrift seriell herzustellen.
  Es entstanden Objekte\, die weder abbilden noch erzählen sollten. "What 
 you see is what you see"\, formulierte Frank Stella\, ein wichtiger Vertre
 ter der Minimal Art: Das Werk ist\, was es ist. Form und Inhalt fallen zus
 ammen. Nicht zuletzt durch die Bemühungen Heiner Friedrichs\, dem Gründe
 r des Museums DASMAXIMUM\, fasste die Minimal Art auch in Deutschland Fuß
 . In seinen Galerien zeigte er Werke der wichtigsten amerikanischen Vertre
 ter der Minimal Art wie Walter De Maria und Dan Flavin\, die auch junge de
 utsche Künstler wie Imi Knoebel oder Blinky Palermo zu minimalistischen E
 xperimenten anregten.\nAuf dem Rundgang tauchen wir ein in die scheinbar k
 arge Welt des Minimalismus und entdecken ein Maximum an Lust am Malen\, Fr
 eude an der Farbe und kreativem Gestaltungsspielraum in der bewussten kün
 stlerischen Beschränkung.\n\nAnmelden können Sie sich über die VHS Trau
 nreut unter der Kursnummer R2101.\nKosten: 10€ (inkl. Eintritt)\n\n\n\n\
 n\n
ATTACH;FMTTYPE=image/jpeg:https://www.dasmaximum.com/wp-content/uploads/20
 23/11/2023-11_VB_VHS-Fuehrung-Max-im-Min.jpg
CATEGORIES:Kunstvermittlung
LOCATION:DASMAXIMUM KunstGegenwart\, Fridtjof-Nansen-Straße 16\, Traunreut
 \, Bayern\, 83301\, Bayern\, Deutschland
X-APPLE-STRUCTURED-LOCATION;VALUE=URI;X-ADDRESS=Fridtjof-Nansen-Straße 16\
 , Traunreut\, Bayern\, 83301\, Bayern\, Deutschland;X-APPLE-RADIUS=100;X-T
 ITLE=DASMAXIMUM KunstGegenwart:geo:0,0
END:VEVENT
BEGIN:VTIMEZONE
TZID:Europe/Berlin
X-LIC-LOCATION:Europe/Berlin
BEGIN:STANDARD
DTSTART:20231029T020000
TZOFFSETFROM:+0200
TZOFFSETTO:+0100
TZNAME:CET
END:STANDARD
END:VTIMEZONE
END:VCALENDAR